BEGIN:VCALENDAR
VERSION:2.0
PRODID:-//All4Summits - ECPv6.15.20//NONSGML v1.0//EN
CALSCALE:GREGORIAN
METHOD:PUBLISH
X-WR-CALNAME:All4Summits
X-ORIGINAL-URL:https://all4summits.com
X-WR-CALDESC:Eventos para All4Summits
REFRESH-INTERVAL;VALUE=DURATION:PT1H
X-Robots-Tag:noindex
X-PUBLISHED-TTL:PT1H
BEGIN:VTIMEZONE
TZID:Europe/Madrid
BEGIN:DAYLIGHT
TZOFFSETFROM:+0100
TZOFFSETTO:+0200
TZNAME:CEST
DTSTART:20230326T010000
END:DAYLIGHT
BEGIN:STANDARD
TZOFFSETFROM:+0200
TZOFFSETTO:+0100
TZNAME:CET
DTSTART:20231029T010000
END:STANDARD
BEGIN:DAYLIGHT
TZOFFSETFROM:+0100
TZOFFSETTO:+0200
TZNAME:CEST
DTSTART:20240331T010000
END:DAYLIGHT
BEGIN:STANDARD
TZOFFSETFROM:+0200
TZOFFSETTO:+0100
TZNAME:CET
DTSTART:20241027T010000
END:STANDARD
BEGIN:DAYLIGHT
TZOFFSETFROM:+0100
TZOFFSETTO:+0200
TZNAME:CEST
DTSTART:20250330T010000
END:DAYLIGHT
BEGIN:STANDARD
TZOFFSETFROM:+0200
TZOFFSETTO:+0100
TZNAME:CET
DTSTART:20251026T010000
END:STANDARD
END:VTIMEZONE
BEGIN:VEVENT
DTSTART;TZID=Europe/Madrid:20241116T150000
DTEND;TZID=Europe/Madrid:20241116T180000
DTSTAMP:20260420T160249
CREATED:20241016T161848Z
LAST-MODIFIED:20241016T164638Z
UID:3794-1731769200-1731780000@all4summits.com
SUMMARY:Espeleología en la cueva de la ceza
DESCRIPTION:Es nuestra cueva más asequible. Apta para todas las edades. Pensada para familias y personas que quieren una primera toma de contacto con el mundo subterráneo.  \n\n\n\n\n\n\n\n\n\n\nLa cueva de la Ceza es una cueva de desarrollo horizontal\, en la que nos moveremos mayoritariamente por el curso activo del río. Tiene gateras\, amplias galerías y algún paso estrecho en el que los más hábiles sólo se mojarán las manos. El recorrido nos llevará hasta un maravilloso lago de aguas cristalinas. El recorrido de vuelta nos depara alguna sorpresa para los más intrépidos. \nNO SE REQUIERE DE EXPERIENCIA PREVIA \n\n\n\n\n\n\nEs una cueva muy sencilla apta para todas las edades\, debido a su baja dificultad técnica y exigencia física.
URL:https://all4summits.com/programado/espeleologia_familiar/
CATEGORIES:ESPELEOLOGÍA
ATTACH;FMTTYPE=image/jpeg:https://all4summits.com/wp-content/uploads/2024/05/espeleo-familiar.jpeg
END:VEVENT
END:VCALENDAR