BEGIN:VCALENDAR
VERSION:2.0
PRODID:-//All4Summits - ECPv6.15.20//NONSGML v1.0//EN
CALSCALE:GREGORIAN
METHOD:PUBLISH
X-ORIGINAL-URL:https://all4summits.com
X-WR-CALDESC:Eventos para All4Summits
REFRESH-INTERVAL;VALUE=DURATION:PT1H
X-Robots-Tag:noindex
X-PUBLISHED-TTL:PT1H
BEGIN:VTIMEZONE
TZID:Europe/Madrid
BEGIN:DAYLIGHT
TZOFFSETFROM:+0100
TZOFFSETTO:+0200
TZNAME:CEST
DTSTART:20240331T010000
END:DAYLIGHT
BEGIN:STANDARD
TZOFFSETFROM:+0200
TZOFFSETTO:+0100
TZNAME:CET
DTSTART:20241027T010000
END:STANDARD
BEGIN:DAYLIGHT
TZOFFSETFROM:+0100
TZOFFSETTO:+0200
TZNAME:CEST
DTSTART:20250330T010000
END:DAYLIGHT
BEGIN:STANDARD
TZOFFSETFROM:+0200
TZOFFSETTO:+0100
TZNAME:CET
DTSTART:20251026T010000
END:STANDARD
BEGIN:DAYLIGHT
TZOFFSETFROM:+0100
TZOFFSETTO:+0200
TZNAME:CEST
DTSTART:20260329T010000
END:DAYLIGHT
BEGIN:STANDARD
TZOFFSETFROM:+0200
TZOFFSETTO:+0100
TZNAME:CET
DTSTART:20261025T010000
END:STANDARD
END:VTIMEZONE
BEGIN:VEVENT
DTSTART;TZID=Europe/Madrid:20251108T100000
DTEND;TZID=Europe/Madrid:20251108T140000
DTSTAMP:20260421T020313
CREATED:20251020T113222Z
LAST-MODIFIED:20251020T151804Z
UID:3950-1762596000-1762610400@all4summits.com
SUMMARY:Espeleología en la cueva de la ceza
DESCRIPTION:Es nuestra cueva más asequible. Apta para todas las edades. Pensada para familias y personas que quieren una primera toma de contacto con el mundo subterráneo.  \n\n\n\n\n\n\n\n\n\n\nLa cueva de la Ceza es una cueva de desarrollo horizontal\, en la que nos moveremos mayoritariamente por el curso activo del río. Tiene gateras\, amplias galerías y algún paso estrecho en el que los más hábiles sólo se mojarán las manos. El recorrido nos llevará hasta un maravilloso lago de aguas cristalinas. El recorrido de vuelta nos depara alguna sorpresa para los más intrépidos. \nNO SE REQUIERE DE EXPERIENCIA PREVIA \n\n\n\n\n\n\nEs una cueva muy sencilla apta para todas las edades\, debido a su baja dificultad técnica y exigencia física.
URL:https://all4summits.com/programado/espeleologia-en-la-cueva-de-la-ceza-3/
CATEGORIES:ESPELEOLOGÍA
ATTACH;FMTTYPE=image/jpeg:https://all4summits.com/wp-content/uploads/2024/10/IMG_0308.jpeg
END:VEVENT
BEGIN:VEVENT
DTSTART;TZID=Europe/Madrid:20251109T100000
DTEND;TZID=Europe/Madrid:20251109T140000
DTSTAMP:20260421T020313
CREATED:20251020T132446Z
LAST-MODIFIED:20251020T151927Z
UID:3952-1762682400-1762696800@all4summits.com
SUMMARY:Espeleología en la cueva de Arcoia
DESCRIPTION:Es nuestra cueva de iniciación. Apta para todas las personas mayores de 12 años. En esta cueva tenemos pasos en los que es necesario el uso de cuerda\, trepes\, destrepes… \n\n\n\n\nEs una cueva con gran cantidad y variedad de formaciones. A lo largo del recorrido podremos disfrutar de distintos espeleotemas (estalactitas\, estalagmitas\, coladas\, gours…). Es una de las cuevas de Galicia más bonitas debido a la cantidad de formaciones que presenta. A lo largo del recorrido nos encontraremos trepes\, destrepes\, gateras… \nEs una actividad muy asequible a nivel técnico y físico\, que seguro que no te dejará indiferente. \nNO SE REQUIERE DE EXPERIENCIA PREVIA \n\n\n\n\n\n\nEs una cueva que nos permite adaptar la dificultad de la actividad en función de las habilidades de cada uno.
URL:https://all4summits.com/programado/espeleologia-en-la-cueva-de-arcoia/
CATEGORIES:ESPELEOLOGÍA
ATTACH;FMTTYPE=image/jpeg:https://all4summits.com/wp-content/uploads/2023/02/D447CA27-78CE-4A57-B591-45E7C2813D8E_1_105_c.jpeg
END:VEVENT
END:VCALENDAR