BEGIN:VCALENDAR
VERSION:2.0
PRODID:-//All4Summits - ECPv6.15.20//NONSGML v1.0//EN
CALSCALE:GREGORIAN
METHOD:PUBLISH
X-WR-CALNAME:All4Summits
X-ORIGINAL-URL:https://all4summits.com
X-WR-CALDESC:Eventos para All4Summits
REFRESH-INTERVAL;VALUE=DURATION:PT1H
X-Robots-Tag:noindex
X-PUBLISHED-TTL:PT1H
BEGIN:VTIMEZONE
TZID:Europe/Madrid
BEGIN:DAYLIGHT
TZOFFSETFROM:+0100
TZOFFSETTO:+0200
TZNAME:CEST
DTSTART:20230326T010000
END:DAYLIGHT
BEGIN:STANDARD
TZOFFSETFROM:+0200
TZOFFSETTO:+0100
TZNAME:CET
DTSTART:20231029T010000
END:STANDARD
BEGIN:DAYLIGHT
TZOFFSETFROM:+0100
TZOFFSETTO:+0200
TZNAME:CEST
DTSTART:20240331T010000
END:DAYLIGHT
BEGIN:STANDARD
TZOFFSETFROM:+0200
TZOFFSETTO:+0100
TZNAME:CET
DTSTART:20241027T010000
END:STANDARD
BEGIN:DAYLIGHT
TZOFFSETFROM:+0100
TZOFFSETTO:+0200
TZNAME:CEST
DTSTART:20250330T010000
END:DAYLIGHT
BEGIN:STANDARD
TZOFFSETFROM:+0200
TZOFFSETTO:+0100
TZNAME:CET
DTSTART:20251026T010000
END:STANDARD
END:VTIMEZONE
BEGIN:VEVENT
DTSTART;TZID=Europe/Madrid:20241031T200000
DTEND;TZID=Europe/Madrid:20241101T003000
DTSTAMP:20260425T162626
CREATED:20241018T110409Z
LAST-MODIFIED:20241018T110409Z
UID:3797-1730404800-1730421000@all4summits.com
SUMMARY:Halloween climbing 2024
DESCRIPTION:Hola! Si has llegado hasta aquí es porque estás interesadx en apuntarte en el halloween climbing 2024 que organiza all4summits. \nEn qué consiste este evento\, consiste en disfrutar de subir al monte galiñeiro a escalar bajo la luz de la luna y los frontales\, tener una experiencia del entorno de escalada de una forma diferente. Vivir la sensación de escalar en la oscuridad y ver vigo con unas vistas únicas que seguramente nunca hayas visto. Y todo esto supervisado y dirigido por dos técnicos deportivos de escalada\, con más de 20 años de experiencia y que se conocen el monte galiñeiro a la perfección. \nPara hacer la reserva de tu plaza para el halloween climbing 2024 necesitamos que nos envies un whatsapp al telefono 684292196 y te indicaremos los pasos a seguir para formalizar la reserva. Date prisa y completa tu inscripción\, luego no digas que no te hemos avisado\, corre que las plazas vuelan…… \nPrecio de la actividad 50€ \nEl precio incluye\, una chocolatada con dulces\, participación en un sorteo\, guías de escalada titulados\, linterna frontal para la actividad\, seguro de Rc y accidentes\, material colectivo\, fotos de la actividad y alguna sorpresa… si no tienes material personal no te preocupes porque te lo alquilamos por 10€/persona. \nNo incluido aquello que no se especifica. \nNo te lo pierdas \nNo se necesita experiencia previa \nTe esperamos!! \n  \nAll4summits
URL:https://all4summits.com/programado/halloween-climbing/
CATEGORIES:ESCALADA
ATTACH;FMTTYPE=image/jpeg:https://all4summits.com/wp-content/uploads/2024/10/HALLOWEN.jpg
END:VEVENT
BEGIN:VEVENT
DTSTART;TZID=Europe/Madrid:20241102T090000
DTEND;TZID=Europe/Madrid:20241102T130000
DTSTAMP:20260425T162626
CREATED:20241026T173956Z
LAST-MODIFIED:20241027T123831Z
UID:3819-1730538000-1730552400@all4summits.com
SUMMARY:Bautismo de escalada
DESCRIPTION:Si lo que quieres es experimentar por primera vez la escalada en roca\, no busques más\, esta es la actividad. \n\n\n\n\nPon a prueba tus emociones y experimenta por primera vez la escalada en roca con un bautismo de escalada. \nNo es un curso en sí mismo\, sino una primera jornada de toma de contacto para todos los públicos y especialmente recomendada para disfrutar en familia\, con un grupo de amigos\, en pareja o compartiendo con otras personas. Veremos conceptos técnicos básicos\, para ir sentando las bases a progresar en el futuro en un posible curso. \nNO SE REQUIERE DE EXPERIENCIA PREVIA \n\n\n\n\n\n\n\n\nVías de diferentes dificultades adaptadas al nivel del grupo\n\n\n\n\n\n\nLongitud del recorrido variable\nDificultad variable
URL:https://all4summits.com/programado/bautismo-escalada/
CATEGORIES:ESCALADA
ATTACH;FMTTYPE=image/webp:https://all4summits.com/wp-content/uploads/2024/10/IMG_6540.webp
END:VEVENT
BEGIN:VEVENT
DTSTART;TZID=Europe/Madrid:20241116T150000
DTEND;TZID=Europe/Madrid:20241116T180000
DTSTAMP:20260425T162626
CREATED:20241016T161848Z
LAST-MODIFIED:20241016T164638Z
UID:3794-1731769200-1731780000@all4summits.com
SUMMARY:Espeleología en la cueva de la ceza
DESCRIPTION:Es nuestra cueva más asequible. Apta para todas las edades. Pensada para familias y personas que quieren una primera toma de contacto con el mundo subterráneo.  \n\n\n\n\n\n\n\n\n\n\nLa cueva de la Ceza es una cueva de desarrollo horizontal\, en la que nos moveremos mayoritariamente por el curso activo del río. Tiene gateras\, amplias galerías y algún paso estrecho en el que los más hábiles sólo se mojarán las manos. El recorrido nos llevará hasta un maravilloso lago de aguas cristalinas. El recorrido de vuelta nos depara alguna sorpresa para los más intrépidos. \nNO SE REQUIERE DE EXPERIENCIA PREVIA \n\n\n\n\n\n\nEs una cueva muy sencilla apta para todas las edades\, debido a su baja dificultad técnica y exigencia física.
URL:https://all4summits.com/programado/espeleologia_familiar/
CATEGORIES:ESPELEOLOGÍA
ATTACH;FMTTYPE=image/jpeg:https://all4summits.com/wp-content/uploads/2024/05/espeleo-familiar.jpeg
END:VEVENT
END:VCALENDAR